{
 "currentVersion": 10.91,
 "serviceDescription": "BEUC2018/SEZP_10m_WM_dm",
 "name": "BEUC2018/SEZP_10m_WM_dm",
 "description": "",
 "extent": {
  "xmin": 2319671.0380560914,
  "ymin": 7143821.49306154,
  "xmax": 2997501.0380560914,
  "ymax": 7653201.49306154,
  "spatialReference": {
   "wkid": 102100,
   "latestWkid": 3857
  }
 },
 "initialExtent": {
  "xmin": 2319671.0380560914,
  "ymin": 7143821.49306154,
  "xmax": 2997501.0380560914,
  "ymax": 7653201.49306154,
  "spatialReference": {
   "wkid": 102100,
   "latestWkid": 3857
  }
 },
 "fullExtent": {
  "xmin": 2319671.0380560914,
  "ymin": 7143821.49306154,
  "xmax": 2997501.0380560914,
  "ymax": 7653201.49306154,
  "spatialReference": {
   "wkid": 102100,
   "latestWkid": 3857
  }
 },
 "hasMultidimensions": false,
 "pixelSizeX": 10,
 "pixelSizeY": 10,
 "datasetFormat": "FGDBR",
 "uncompressedSize": 13810921816,
 "blockWidth": 128,
 "blockHeight": 128,
 "compressionType": "LZ77",
 "bandNames": [
  "Band_1"
 ],
 "allowCopy": true,
 "allowAnalysis": true,
 "bandCount": 1,
 "pixelType": "F32",
 "minPixelSize": 0,
 "maxPixelSize": 0,
 "copyrightText": "",
 "serviceDataType": "esriImageServiceDataTypeGeneric",
 "serviceSourceType": "esriImageServiceSourceTypeDataset",
 "minValues": [
  -2.0999999046325684
 ],
 "maxValues": [
  294.1000061035156
 ],
 "meanValues": [
  101.18424722143098
 ],
 "stdvValues": [
  47.79425110623573
 ],
 "objectIdField": "",
 "fields": [],
 "capabilities": "Image,Metadata,Mensuration",
 "defaultMosaicMethod": "Center",
 "allowedMosaicMethods": "",
 "sortField": "",
 "sortValue": null,
 "sortAscending": true,
 "mosaicOperator": "First",
 "defaultCompressionQuality": 75,
 "defaultResamplingMethod": "Bilinear",
 "maxImageHeight": 4100,
 "maxImageWidth": 15000,
 "allowRasterFunction": true,
 "rasterFunctionInfos": [
  {
   "name": "None",
   "description": "Make a Raster or Raster Dataset into a Function Raster Dataset.",
   "help": ""
  },
  {
   "name": "Aspect Degrees",
   "description": "Aspect as 16bit unsigned as Degree between 0 and 360",
   "help": ""
  },
  {
   "name": "Aspect Map",
   "description": "A raster function template that takes Aspect and colors it in 8 directional classes",
   "help": ""
  },
  {
   "name": "Contour 25",
   "description": "Creates Contours - but other than the name suggests, the default is 500 for large scale areas - Attribute can be re-set",
   "help": ""
  },
  {
   "name": "Contour Smoothed 25",
   "description": "Creates 500m Contours with adaptive smoothing",
   "help": ""
  },
  {
   "name": "Height Orthometric",
   "description": "This is the assumed height of the data anyway - just for completeness and to move back from ellipsoidal height",
   "help": "none"
  },
  {
   "name": "Hillshade Grey",
   "description": "Traditional method",
   "help": ""
  },
  {
   "name": "Hillshade Multidirectional",
   "description": "Nicer Hillshade",
   "help": ""
  },
  {
   "name": "Slope Degrees",
   "description": "Slope in Degree",
   "help": ""
  },
  {
   "name": "Height Ellipsoidal",
   "description": "Add /pedata/WGS84.img as correction to Orthometric height",
   "help": "none"
  },
  {
   "name": "Hillshade Elevation Tinted",
   "description": "Apply sharpen before shaded relief",
   "help": "Try argument ColorRamp with 'Elevation #1' or 'Elevation #2'"
  },
  {
   "name": "Shaded Relief multicolor",
   "description": "none",
   "help": "none"
  },
  {
   "name": "Slope Map",
   "description": "A raster function template that takes Slope and colors it in 4 steepness classes",
   "help": ""
  }
 ],
 "rasterTypeInfos": [
  {
   "name": "Raster Dataset",
   "description": "Supports all ArcGIS Raster Datasets",
   "help": ""
  }
 ],
 "mensurationCapabilities": "Basic",
 "hasHistograms": true,
 "hasColormap": false,
 "hasRasterAttributeTable": false,
 "minScale": 0,
 "maxScale": 0,
 "exportTilesAllowed": false,
 "supportsStatistics": false,
 "supportsAdvancedQueries": false,
 "editFieldsInfo": null,
 "ownershipBasedAccessControlForRasters": null,
 "allowComputeTiePoints": false,
 "useStandardizedQueries": false,
 "advancedQueryCapabilities": {
  "useStandardizedQueries": false,
  "supportsStatistics": false,
  "supportsOrderBy": false,
  "supportsDistinct": false,
  "supportsPagination": false
 },
 "spatialReference": {
  "wkid": 102100,
  "latestWkid": 3857
 }
}
