{
 "currentVersion": 10.91,
 "serviceDescription": "For Baltic Esri User Conference 2018",
 "name": "BEUC2018/lt_dem_explorer",
 "description": "For Baltic Esri User Conference 2018",
 "extent": {
  "xmin": 2319671.0210793545,
  "ymin": 7143821.4559224425,
  "xmax": 2997501.0210792506,
  "ymax": 7653201.555922365,
  "spatialReference": {
   "wkid": 102100,
   "latestWkid": 3857
  }
 },
 "initialExtent": {
  "xmin": 2319671.0210793545,
  "ymin": 7143821.4559224425,
  "xmax": 2997501.0210792506,
  "ymax": 7653201.555922365,
  "spatialReference": {
   "wkid": 102100,
   "latestWkid": 3857
  }
 },
 "fullExtent": {
  "xmin": 2319671.0210793545,
  "ymin": 7143821.4559224425,
  "xmax": 2997501.0210792506,
  "ymax": 7653201.555922365,
  "spatialReference": {
   "wkid": 102100,
   "latestWkid": 3857
  }
 },
 "hasMultidimensions": false,
 "pixelSizeX": 0.09999999999998468,
 "pixelSizeY": 0.09999999999998475,
 "datasetFormat": "AMD",
 "uncompressedSize": 138109245273200,
 "blockWidth": 2048,
 "blockHeight": 256,
 "compressionType": "None",
 "bandNames": [
  "Band_1"
 ],
 "allowCopy": true,
 "allowAnalysis": true,
 "bandCount": 1,
 "pixelType": "F32",
 "minPixelSize": 0,
 "maxPixelSize": 0,
 "copyrightText": "",
 "serviceDataType": "esriImageServiceDataTypeElevation",
 "serviceSourceType": "esriImageServiceSourceTypeMosaicDataset",
 "minValues": [
  -2.0999999046325684
 ],
 "maxValues": [
  294.1000061035156
 ],
 "meanValues": [
  101.1842471814211
 ],
 "stdvValues": [
  47.794251326808656
 ],
 "objectIdField": "OBJECTID",
 "fields": [
  {
   "name": "OBJECTID",
   "type": "esriFieldTypeOID",
   "alias": "OBJECTID",
   "domain": null
  },
  {
   "name": "Shape",
   "type": "esriFieldTypeGeometry",
   "alias": "Shape",
   "domain": null
  },
  {
   "name": "Name",
   "type": "esriFieldTypeString",
   "alias": "Name",
   "domain": null,
   "length": 200
  },
  {
   "name": "MinPS",
   "type": "esriFieldTypeDouble",
   "alias": "MinPS",
   "domain": null
  },
  {
   "name": "MaxPS",
   "type": "esriFieldTypeDouble",
   "alias": "MaxPS",
   "domain": null
  },
  {
   "name": "LowPS",
   "type": "esriFieldTypeDouble",
   "alias": "LowPS",
   "domain": null
  },
  {
   "name": "HighPS",
   "type": "esriFieldTypeDouble",
   "alias": "HighPS",
   "domain": null
  },
  {
   "name": "Category",
   "type": "esriFieldTypeInteger",
   "alias": "Category",
   "domain": {
    "type": "codedValue",
    "name": "MosaicCatalogItemCategoryDomain",
    "description": "Catalog item categories.",
    "codedValues": [
     {
      "name": "Unknown",
      "code": 0
     },
     {
      "name": "Primary",
      "code": 1
     },
     {
      "name": "Overview",
      "code": 2
     },
     {
      "name": "Unprocessed Overview",
      "code": 3
     },
     {
      "name": "Partial Overview",
      "code": 4
     },
     {
      "name": "Inactive",
      "code": 5
     },
     {
      "name": "Uploaded",
      "code": 253
     },
     {
      "name": "Incomplete",
      "code": 254
     },
     {
      "name": "Custom",
      "code": 255
     }
    ],
    "mergePolicy": "esriMPTDefaultValue",
    "splitPolicy": "esriSPTDefaultValue"
   }
  },
  {
   "name": "Tag",
   "type": "esriFieldTypeString",
   "alias": "Tag",
   "domain": null,
   "length": 100
  },
  {
   "name": "GroupName",
   "type": "esriFieldTypeString",
   "alias": "GroupName",
   "domain": null,
   "length": 100
  },
  {
   "name": "ProductName",
   "type": "esriFieldTypeString",
   "alias": "ProductName",
   "domain": null,
   "length": 100
  },
  {
   "name": "CenterX",
   "type": "esriFieldTypeDouble",
   "alias": "CenterX",
   "domain": null
  },
  {
   "name": "CenterY",
   "type": "esriFieldTypeDouble",
   "alias": "CenterY",
   "domain": null
  },
  {
   "name": "ZOrder",
   "type": "esriFieldTypeInteger",
   "alias": "ZOrder",
   "domain": null
  },
  {
   "name": "Shape_Length",
   "type": "esriFieldTypeDouble",
   "alias": "Shape_Length",
   "domain": null
  },
  {
   "name": "Shape_Area",
   "type": "esriFieldTypeDouble",
   "alias": "Shape_Area",
   "domain": null
  },
  {
   "name": "AcquisitionDate",
   "type": "esriFieldTypeDate",
   "alias": "AcquisitionDate",
   "domain": null,
   "length": 8
  },
  {
   "name": "creationdate",
   "type": "esriFieldTypeDate",
   "alias": "creationdate",
   "domain": null,
   "length": 8
  },
  {
   "name": "NumDate",
   "type": "esriFieldTypeString",
   "alias": "NumDate",
   "domain": null,
   "length": 255
  },
  {
   "name": "Best",
   "type": "esriFieldTypeInteger",
   "alias": "Best",
   "domain": null
  },
  {
   "name": "DEM_Type",
   "type": "esriFieldTypeSmallInteger",
   "alias": "DEM_Type",
   "domain": null
  },
  {
   "name": "active",
   "type": "esriFieldTypeSmallInteger",
   "alias": "active",
   "domain": null
  },
  {
   "name": "VerticalDatum",
   "type": "esriFieldTypeString",
   "alias": "VerticalDatum",
   "domain": null,
   "length": 16
  }
 ],
 "capabilities": "Image,Metadata,Catalog,Mensuration",
 "defaultMosaicMethod": "ByAttribute",
 "allowedMosaicMethods": "ByAttribute,LockRaster,Seamline,None",
 "sortField": "Best",
 "sortValue": "0",
 "sortAscending": true,
 "mosaicOperator": "First",
 "maxDownloadSizeLimit": 2048,
 "defaultCompressionQuality": 75,
 "defaultResamplingMethod": "Bilinear",
 "maxImageHeight": 4000,
 "maxImageWidth": 4000,
 "maxRecordCount": 2000,
 "maxDownloadImageCount": 0,
 "maxMosaicImageCount": 50,
 "allowRasterFunction": true,
 "rasterFunctionInfos": [
  {
   "name": "None",
   "description": "A No-Op Function.",
   "help": ""
  },
  {
   "name": "Aspect Degrees",
   "description": "Aspect as 16bit unsigned as Degree between 0 and 360",
   "help": ""
  },
  {
   "name": "Aspect Map",
   "description": "A raster function template that takes Aspect and colors it in 8 directional classes",
   "help": ""
  },
  {
   "name": "Contour 25",
   "description": "Creates Contours - but other than the name suggests, the default is 500 for large scale areas - Attribute can be re-set",
   "help": ""
  },
  {
   "name": "Contour Smoothed 25",
   "description": "Creates 500m Contours with adaptive smoothing",
   "help": ""
  },
  {
   "name": "Height Ellipsoidal",
   "description": "Add /pedata/WGS84.img as correction to Orthometric height",
   "help": "none"
  },
  {
   "name": "Height Orthometric",
   "description": "This is the assumed height of the data anyway - just for completeness and to move back from ellipsoidal height",
   "help": "none"
  },
  {
   "name": "Hillshade Elevation Tinted",
   "description": "Apply sharpen before shaded relief",
   "help": "Try argument ColorRamp with 'Elevation #1' or 'Elevation #2'"
  },
  {
   "name": "Hillshade Grey",
   "description": "Traditional method",
   "help": ""
  },
  {
   "name": "Hillshade Multidirectional",
   "description": "Nicer Hillshade",
   "help": ""
  },
  {
   "name": "Shaded Relief multicolor",
   "description": "none",
   "help": "none"
  },
  {
   "name": "Slope Degrees",
   "description": "Slope in Degree",
   "help": ""
  },
  {
   "name": "Slope Map",
   "description": "A raster function template that takes Slope and colors it in 4 steepness classes",
   "help": ""
  }
 ],
 "rasterTypeInfos": [
  {
   "name": "Raster Dataset",
   "description": "Supports all ArcGIS Raster Datasets",
   "help": ""
  }
 ],
 "mensurationCapabilities": "Basic",
 "hasHistograms": true,
 "hasColormap": false,
 "hasRasterAttributeTable": false,
 "minScale": 0,
 "maxScale": 0,
 "exportTilesAllowed": false,
 "supportsStatistics": true,
 "supportsAdvancedQueries": true,
 "editFieldsInfo": null,
 "ownershipBasedAccessControlForRasters": null,
 "allowComputeTiePoints": false,
 "useStandardizedQueries": false,
 "advancedQueryCapabilities": {
  "useStandardizedQueries": false,
  "supportsStatistics": true,
  "supportsOrderBy": true,
  "supportsDistinct": true,
  "supportsPagination": true
 },
 "spatialReference": {
  "wkid": 102100,
  "latestWkid": 3857
 }
}
