{
 "currentVersion": 10.91,
 "serviceDescription": "DEM_with_functions",
 "name": "DEM_with_functions",
 "description": "",
 "extent": {
  "xmin": 626019.95515,
  "ymin": 6110367.976830001,
  "xmax": 626530.7402294121,
  "ymax": 6110781.673497314,
  "spatialReference": {
   "wkid": 2600,
   "latestWkid": 3346
  }
 },
 "initialExtent": {
  "xmin": 626019.95515,
  "ymin": 6110367.976830001,
  "xmax": 626530.7402294121,
  "ymax": 6110781.673497314,
  "spatialReference": {
   "wkid": 2600,
   "latestWkid": 3346
  }
 },
 "fullExtent": {
  "xmin": 626019.95515,
  "ymin": 6110367.976830001,
  "xmax": 626530.7402294121,
  "ymax": 6110781.673497314,
  "spatialReference": {
   "wkid": 2600,
   "latestWkid": 3346
  }
 },
 "hasMultidimensions": false,
 "pixelSizeX": 0.9995794117652561,
 "pixelSizeY": 0.9992673123493827,
 "datasetFormat": "TIFF",
 "uncompressedSize": 846216,
 "blockWidth": 128,
 "blockHeight": 128,
 "compressionType": "LZW",
 "bandNames": [
  "Band_1"
 ],
 "allowCopy": true,
 "allowAnalysis": true,
 "bandCount": 1,
 "noDataValue": -3.4028230607370965E38,
 "noDataValues": [
  -3.4028230607370965E38
 ],
 "pixelType": "F32",
 "minPixelSize": 0,
 "maxPixelSize": 0,
 "copyrightText": "",
 "serviceDataType": "esriImageServiceDataTypeGeneric",
 "serviceSourceType": "esriImageServiceSourceTypeDataset",
 "minValues": [
  131
 ],
 "maxValues": [
  142.10000610352
 ],
 "meanValues": [
  137.18700682604
 ],
 "stdvValues": [
  4.0112696818247
 ],
 "objectIdField": "",
 "fields": [],
 "capabilities": "Image,Metadata,Mensuration",
 "defaultMosaicMethod": "Center",
 "allowedMosaicMethods": "",
 "sortField": "",
 "sortValue": null,
 "sortAscending": true,
 "mosaicOperator": "First",
 "defaultCompressionQuality": 75,
 "defaultResamplingMethod": "Bilinear",
 "maxImageHeight": 4100,
 "maxImageWidth": 15000,
 "allowRasterFunction": true,
 "rasterFunctionInfos": [
  {
   "name": "Aspect",
   "description": "A raster function template.",
   "help": ""
  },
  {
   "name": "Hillshade_Multi",
   "description": "A raster function template.",
   "help": ""
  },
  {
   "name": "Hillshade_Tradi",
   "description": "A raster function template.",
   "help": ""
  },
  {
   "name": "Shaded Relief",
   "description": "Creates a multiband, color coded, 3D representation of the surface, with the sun's relative position taken into account for shading the image.",
   "help": ""
  },
  {
   "name": "ShadedRelief",
   "description": "A raster function template.",
   "help": ""
  },
  {
   "name": "Slope",
   "description": "A raster function template.",
   "help": ""
  },
  {
   "name": "StretchDRA",
   "description": "A raster function template.",
   "help": ""
  },
  {
   "name": "None",
   "description": "",
   "help": ""
  }
 ],
 "rasterTypeInfos": [
  {
   "name": "Raster Dataset",
   "description": "Supports all ArcGIS Raster Datasets",
   "help": ""
  }
 ],
 "mensurationCapabilities": "Basic",
 "hasHistograms": true,
 "hasColormap": false,
 "hasRasterAttributeTable": false,
 "minScale": 0,
 "maxScale": 0,
 "exportTilesAllowed": false,
 "supportsStatistics": false,
 "supportsAdvancedQueries": false,
 "editFieldsInfo": null,
 "ownershipBasedAccessControlForRasters": null,
 "allowComputeTiePoints": false,
 "useStandardizedQueries": false,
 "advancedQueryCapabilities": {
  "useStandardizedQueries": false,
  "supportsStatistics": false,
  "supportsOrderBy": false,
  "supportsDistinct": false,
  "supportsPagination": false
 },
 "spatialReference": {
  "wkid": 2600,
  "latestWkid": 3346
 }
}
