{
 "currentVersion": 10.91,
 "serviceDescription": "Latvija_Mosaic2",
 "name": "Latvija_Mosaic2",
 "description": "",
 "extent": {
  "xmin": 368999.5,
  "ymin": 307999.5,
  "xmax": 384000,
  "ymax": 323000.5,
  "spatialReference": {
   "wkid": 3059,
   "latestWkid": 3059
  }
 },
 "initialExtent": {
  "xmin": 368999.5,
  "ymin": 307999.5,
  "xmax": 384000,
  "ymax": 323000.5,
  "spatialReference": {
   "wkid": 3059,
   "latestWkid": 3059
  }
 },
 "fullExtent": {
  "xmin": 368999.5,
  "ymin": 307999.5,
  "xmax": 384000,
  "ymax": 323000.5,
  "spatialReference": {
   "wkid": 3059,
   "latestWkid": 3059
  }
 },
 "hasMultidimensions": false,
 "pixelSizeX": 0.5,
 "pixelSizeY": 0.5,
 "datasetFormat": "AMD",
 "uncompressedSize": 3600360008,
 "blockWidth": 2048,
 "blockHeight": 256,
 "compressionType": "None",
 "bandNames": [
  "Band_1"
 ],
 "allowCopy": true,
 "allowAnalysis": true,
 "bandCount": 1,
 "pixelType": "F32",
 "minPixelSize": 0,
 "maxPixelSize": 0,
 "copyrightText": "",
 "serviceDataType": "esriImageServiceDataTypeElevation",
 "serviceSourceType": "esriImageServiceSourceTypeMosaicDataset",
 "minValues": [
  3.369288921356201
 ],
 "maxValues": [
  123.87999725341797
 ],
 "meanValues": [
  49.976377793183204
 ],
 "stdvValues": [
  25.31476819313773
 ],
 "objectIdField": "OBJECTID",
 "fields": [
  {
   "name": "OBJECTID",
   "type": "esriFieldTypeOID",
   "alias": "OBJECTID",
   "domain": null
  },
  {
   "name": "Shape",
   "type": "esriFieldTypeGeometry",
   "alias": "Shape",
   "domain": null
  },
  {
   "name": "Name",
   "type": "esriFieldTypeString",
   "alias": "Name",
   "domain": null,
   "length": 200
  },
  {
   "name": "MinPS",
   "type": "esriFieldTypeDouble",
   "alias": "MinPS",
   "domain": null
  },
  {
   "name": "MaxPS",
   "type": "esriFieldTypeDouble",
   "alias": "MaxPS",
   "domain": null
  },
  {
   "name": "LowPS",
   "type": "esriFieldTypeDouble",
   "alias": "LowPS",
   "domain": null
  },
  {
   "name": "HighPS",
   "type": "esriFieldTypeDouble",
   "alias": "HighPS",
   "domain": null
  },
  {
   "name": "Category",
   "type": "esriFieldTypeInteger",
   "alias": "Category",
   "domain": {
    "type": "codedValue",
    "name": "MosaicCatalogItemCategoryDomain",
    "description": "Catalog item categories.",
    "codedValues": [
     {
      "name": "Unknown",
      "code": 0
     },
     {
      "name": "Primary",
      "code": 1
     },
     {
      "name": "Overview",
      "code": 2
     },
     {
      "name": "Unprocessed Overview",
      "code": 3
     },
     {
      "name": "Partial Overview",
      "code": 4
     },
     {
      "name": "Inactive",
      "code": 5
     },
     {
      "name": "Uploaded",
      "code": 253
     },
     {
      "name": "Incomplete",
      "code": 254
     },
     {
      "name": "Custom",
      "code": 255
     }
    ],
    "mergePolicy": "esriMPTDefaultValue",
    "splitPolicy": "esriSPTDefaultValue"
   }
  },
  {
   "name": "Tag",
   "type": "esriFieldTypeString",
   "alias": "Tag",
   "domain": null,
   "length": 100
  },
  {
   "name": "GroupName",
   "type": "esriFieldTypeString",
   "alias": "GroupName",
   "domain": null,
   "length": 100
  },
  {
   "name": "ProductName",
   "type": "esriFieldTypeString",
   "alias": "ProductName",
   "domain": null,
   "length": 100
  },
  {
   "name": "CenterX",
   "type": "esriFieldTypeDouble",
   "alias": "CenterX",
   "domain": null
  },
  {
   "name": "CenterY",
   "type": "esriFieldTypeDouble",
   "alias": "CenterY",
   "domain": null
  },
  {
   "name": "ZOrder",
   "type": "esriFieldTypeInteger",
   "alias": "ZOrder",
   "domain": null
  },
  {
   "name": "Shape_Length",
   "type": "esriFieldTypeDouble",
   "alias": "Shape_Length",
   "domain": null
  },
  {
   "name": "Shape_Area",
   "type": "esriFieldTypeDouble",
   "alias": "Shape_Area",
   "domain": null
  }
 ],
 "capabilities": "Image,Metadata,Pixels,Mensuration,Catalog,Download",
 "defaultMosaicMethod": "Northwest",
 "allowedMosaicMethods": "NorthWest,Center,LockRaster,ByAttribute,Nadir,Viewpoint,Seamline,None",
 "sortField": "",
 "sortValue": null,
 "sortAscending": true,
 "mosaicOperator": "First",
 "maxDownloadSizeLimit": 2048,
 "defaultCompressionQuality": 75,
 "defaultResamplingMethod": "Bilinear",
 "maxImageHeight": 4100,
 "maxImageWidth": 15000,
 "maxRecordCount": 1000,
 "maxDownloadImageCount": 20,
 "maxMosaicImageCount": 45,
 "allowRasterFunction": true,
 "rasterFunctionInfos": [
  {
   "name": "Shaded Relief multicolor",
   "description": "none",
   "help": "none"
  },
  {
   "name": "Aspect Degrees",
   "description": "Aspect as 16bit unsigned as Degree between 0 and 360",
   "help": ""
  },
  {
   "name": "Aspect Map",
   "description": "A raster function template that takes Aspect and colors it in 8 directional classes",
   "help": ""
  },
  {
   "name": "Contour 25",
   "description": "Creates Contours - but other than the name suggests, the default is 500 for large scale areas - Attribute can be re-set",
   "help": ""
  },
  {
   "name": "Contour Smoothed 25",
   "description": "Creates 500m Contours with adaptive smoothing",
   "help": ""
  },
  {
   "name": "Height Ellipsoidal",
   "description": "Add /pedata/WGS84.img as correction to Orthometric height",
   "help": "none"
  },
  {
   "name": "Height Orthometric",
   "description": "This is the assumed height of the data anyway - just for completeness and to move back from ellipsoidal height",
   "help": "none"
  },
  {
   "name": "Hillshade Elevation Tinted",
   "description": "Apply sharpen before shaded relief",
   "help": "Try argument ColorRamp with 'Elevation #1' or 'Elevation #2'"
  },
  {
   "name": "Hillshade Grey",
   "description": "Traditional method",
   "help": ""
  },
  {
   "name": "Hillshade Multidirectional",
   "description": "Nicer Hillshade",
   "help": ""
  },
  {
   "name": "Slope Degrees",
   "description": "Slope in Degree",
   "help": ""
  },
  {
   "name": "Slope Map",
   "description": "A raster function template that takes Slope and colors it in 4 steepness classes",
   "help": ""
  },
  {
   "name": "None",
   "description": "A No-Op Function.",
   "help": ""
  }
 ],
 "rasterTypeInfos": [
  {
   "name": "Raster Dataset",
   "description": "Supports all ArcGIS Raster Datasets",
   "help": ""
  }
 ],
 "mensurationCapabilities": "NONE",
 "hasHistograms": true,
 "hasColormap": false,
 "hasRasterAttributeTable": false,
 "minScale": 0,
 "maxScale": 0,
 "exportTilesAllowed": false,
 "supportsStatistics": true,
 "supportsAdvancedQueries": true,
 "editFieldsInfo": null,
 "ownershipBasedAccessControlForRasters": null,
 "allowComputeTiePoints": false,
 "useStandardizedQueries": false,
 "advancedQueryCapabilities": {
  "useStandardizedQueries": false,
  "supportsStatistics": true,
  "supportsOrderBy": true,
  "supportsDistinct": true,
  "supportsPagination": true
 },
 "spatialReference": {
  "wkid": 3059,
  "latestWkid": 3059
 }
}
