View In:
ArcGIS JavaScript
ArcGIS Online Map Viewer
ArcGIS Earth
ArcMap
View Footprint In:
ArcGIS Online Map Viewer
Service Description: BEUC2018/SEZP_10m_WM_dm
Name: BEUC2018/SEZP_10m_WM_dm
Description:
Single Fused Map Cache: false
Extent:
XMin: 2319671.0380560914
YMin: 7143821.49306154
XMax: 2997501.0380560914
YMax: 7653201.49306154
Spatial Reference: 102100
(3857)
LatestVCSWkid(0)
Initial Extent:
XMin: 2319671.0380560914
YMin: 7143821.49306154
XMax: 2997501.0380560914
YMax: 7653201.49306154
Spatial Reference: 102100
(3857)
LatestVCSWkid(0)
Full Extent:
XMin: 2319671.0380560914
YMin: 7143821.49306154
XMax: 2997501.0380560914
YMax: 7653201.49306154
Spatial Reference: 102100
(3857)
LatestVCSWkid(0)
Pixel Size X: 10.0
Pixel Size Y: 10.0
Band Count: 1
Pixel Type: F32
RasterFunction Infos: {"rasterFunctionInfos": [
{
"name": "None",
"description": "Make a Raster or Raster Dataset into a Function Raster Dataset.",
"help": ""
},
{
"name": "Aspect Degrees",
"description": "Aspect as 16bit unsigned as Degree between 0 and 360",
"help": ""
},
{
"name": "Aspect Map",
"description": "A raster function template that takes Aspect and colors it in 8 directional classes",
"help": ""
},
{
"name": "Contour 25",
"description": "Creates Contours - but other than the name suggests, the default is 500 for large scale areas - Attribute
can be re-set",
"help": ""
},
{
"name": "Contour Smoothed 25",
"description": "Creates 500m Contours with adaptive smoothing",
"help": ""
},
{
"name": "Height Orthometric",
"description": "This is the assumed height of the data anyway - just for completeness and to move back from ellipsoidal height",
"help": "none"
},
{
"name": "Hillshade Grey",
"description": "Traditional method",
"help": ""
},
{
"name": "Hillshade Multidirectional",
"description": "Nicer Hillshade",
"help": ""
},
{
"name": "Slope Degrees",
"description": "Slope in Degree",
"help": ""
},
{
"name": "Height Ellipsoidal",
"description": "Add /pedata/WGS84.img as correction to Orthometric height",
"help": "none"
},
{
"name": "Hillshade Elevation Tinted",
"description": "Apply sharpen before shaded relief",
"help": "Try argument ColorRamp with 'Elevation #1' or 'Elevation #2'"
},
{
"name": "Shaded Relief multicolor",
"description": "none",
"help": "none"
},
{
"name": "Slope Map",
"description": "A raster function template that takes Slope and colors it in 4 steepness classes",
"help": ""
}
]}
Mensuration Capabilities: Basic
Has Histograms: true
Has Colormap: false
Has Multi Dimensions : false
Rendering Rule:
Min Scale: 0
Max Scale: 0
Copyright Text:
Service Data Type: esriImageServiceDataTypeGeneric
Min Values: -2.0999999046325684
Max Values: 294.1000061035156
Mean Values: 101.18424722143098
Standard Deviation Values: 47.79425110623573
Object ID Field:
Fields:
None
Default Mosaic Method: Center
Allowed Mosaic Methods:
SortField:
SortValue: null
Mosaic Operator: First
Default Compression Quality: 75
Default Resampling Method: Bilinear
Max Record Count: null
Max Image Height: 4100
Max Image Width: 15000
Max Download Image Count: null
Max Mosaic Image Count: null
Allow Raster Function: true
Allow Copy: true
Allow Analysis: true
Allow Compute TiePoints: false
Supports Statistics: false
Supports Advanced Queries: false
Use StandardizedQueries: false
Raster Type Infos:
Name: Raster Dataset
Description: Supports all ArcGIS Raster Datasets
Help:
Has Raster Attribute Table: false
Edit Fields Info: null
Ownership Based AccessControl For Rasters: null
Child Resources:
Info
Histograms
Statistics
Key Properties
Legend
Raster Function Infos
Supported Operations:
Export Image
Identify
Measure
Compute Histograms
Compute Statistics Histograms
Get Samples
Compute Class Statistics
Query Boundary
Compute Pixel Location
Compute Angles
Validate
Project