View In:
ArcGIS JavaScript
ArcGIS Online Map Viewer
ArcGIS Earth
ArcMap
View Footprint In:
ArcGIS Online Map Viewer
Service Description: For Baltic Esri User Conference 2018
Name: BEUC2018/lt_dem_explorer
Description: For Baltic Esri User Conference 2018
Single Fused Map Cache: false
Extent:
XMin: 2319671.0210793545
YMin: 7143821.4559224425
XMax: 2997501.0210792506
YMax: 7653201.555922365
Spatial Reference: 102100
(3857)
LatestVCSWkid(0)
Initial Extent:
XMin: 2319671.0210793545
YMin: 7143821.4559224425
XMax: 2997501.0210792506
YMax: 7653201.555922365
Spatial Reference: 102100
(3857)
LatestVCSWkid(0)
Full Extent:
XMin: 2319671.0210793545
YMin: 7143821.4559224425
XMax: 2997501.0210792506
YMax: 7653201.555922365
Spatial Reference: 102100
(3857)
LatestVCSWkid(0)
Pixel Size X: 0.09999999999998468
Pixel Size Y: 0.09999999999998475
Band Count: 1
Pixel Type: F32
RasterFunction Infos: {"rasterFunctionInfos": [
{
"name": "None",
"description": "A No-Op Function.",
"help": ""
},
{
"name": "Aspect Degrees",
"description": "Aspect as 16bit unsigned as Degree between 0 and 360",
"help": ""
},
{
"name": "Aspect Map",
"description": "A raster function template that takes Aspect and colors it in 8 directional classes",
"help": ""
},
{
"name": "Contour 25",
"description": "Creates Contours - but other than the name suggests, the default is 500 for large scale areas - Attribute
can be re-set",
"help": ""
},
{
"name": "Contour Smoothed 25",
"description": "Creates 500m Contours with adaptive smoothing",
"help": ""
},
{
"name": "Height Ellipsoidal",
"description": "Add /pedata/WGS84.img as correction to Orthometric height",
"help": "none"
},
{
"name": "Height Orthometric",
"description": "This is the assumed height of the data anyway - just for completeness and to move back from ellipsoidal height",
"help": "none"
},
{
"name": "Hillshade Elevation Tinted",
"description": "Apply sharpen before shaded relief",
"help": "Try argument ColorRamp with 'Elevation #1' or 'Elevation #2'"
},
{
"name": "Hillshade Grey",
"description": "Traditional method",
"help": ""
},
{
"name": "Hillshade Multidirectional",
"description": "Nicer Hillshade",
"help": ""
},
{
"name": "Shaded Relief multicolor",
"description": "none",
"help": "none"
},
{
"name": "Slope Degrees",
"description": "Slope in Degree",
"help": ""
},
{
"name": "Slope Map",
"description": "A raster function template that takes Slope and colors it in 4 steepness classes",
"help": ""
}
]}
Mensuration Capabilities: Basic
Has Histograms: true
Has Colormap: false
Has Multi Dimensions : false
Rendering Rule:
Min Scale: 0
Max Scale: 0
Copyright Text:
Service Data Type: esriImageServiceDataTypeElevation
Min Values: -2.0999999046325684
Max Values: 294.1000061035156
Mean Values: 101.1842471814211
Standard Deviation Values: 47.794251326808656
Object ID Field: OBJECTID
Fields:
-
OBJECTID
(
type: esriFieldTypeOID, alias: OBJECTID
)
-
Shape
(
type: esriFieldTypeGeometry, alias: Shape
)
-
Name
(
type: esriFieldTypeString, alias: Name, length: 200
)
-
MinPS
(
type: esriFieldTypeDouble, alias: MinPS
)
-
MaxPS
(
type: esriFieldTypeDouble, alias: MaxPS
)
-
LowPS
(
type: esriFieldTypeDouble, alias: LowPS
)
-
HighPS
(
type: esriFieldTypeDouble, alias: HighPS
)
-
Category
(
type: esriFieldTypeInteger, alias: Category
,
Coded Values:
[0: Unknown]
,
[1: Primary]
,
[2: Overview]
, ...6 more...
)
-
Tag
(
type: esriFieldTypeString, alias: Tag, length: 100
)
-
GroupName
(
type: esriFieldTypeString, alias: GroupName, length: 100
)
-
ProductName
(
type: esriFieldTypeString, alias: ProductName, length: 100
)
-
CenterX
(
type: esriFieldTypeDouble, alias: CenterX
)
-
CenterY
(
type: esriFieldTypeDouble, alias: CenterY
)
-
ZOrder
(
type: esriFieldTypeInteger, alias: ZOrder
)
-
Shape_Length
(
type: esriFieldTypeDouble, alias: Shape_Length
)
-
Shape_Area
(
type: esriFieldTypeDouble, alias: Shape_Area
)
-
AcquisitionDate
(
type: esriFieldTypeDate, alias: AcquisitionDate, length: 8
)
-
creationdate
(
type: esriFieldTypeDate, alias: creationdate, length: 8
)
-
NumDate
(
type: esriFieldTypeString, alias: NumDate, length: 255
)
-
Best
(
type: esriFieldTypeInteger, alias: Best
)
-
DEM_Type
(
type: esriFieldTypeSmallInteger, alias: DEM_Type
)
-
active
(
type: esriFieldTypeSmallInteger, alias: active
)
-
VerticalDatum
(
type: esriFieldTypeString, alias: VerticalDatum, length: 16
)
Default Mosaic Method: ByAttribute
Allowed Mosaic Methods: ByAttribute,LockRaster,Seamline,None
SortField: Best
SortValue: 0
Mosaic Operator: First
Default Compression Quality: 75
Default Resampling Method: Bilinear
Max Record Count: 2000
Max Image Height: 4000
Max Image Width: 4000
Max Download Image Count: 0
Max Mosaic Image Count: 50
Allow Raster Function: true
Allow Copy: true
Allow Analysis: true
Allow Compute TiePoints: false
Supports Statistics: true
Supports Advanced Queries: true
Use StandardizedQueries: false
Raster Type Infos:
Name: Raster Dataset
Description: Supports all ArcGIS Raster Datasets
Help:
Has Raster Attribute Table: false
Edit Fields Info: null
Ownership Based AccessControl For Rasters: null
Child Resources:
Info
Histograms
Statistics
Key Properties
Legend
Raster Function Infos
Supported Operations:
Export Image
Query
Identify
Measure
Compute Histograms
Compute Statistics Histograms
Get Samples
Compute Class Statistics
Query Boundary
Compute Pixel Location
Compute Angles
Validate
Project
Calculate Volume