View In:
ArcGIS JavaScript
ArcGIS Online Map Viewer
ArcGIS Earth
ArcMap
View Footprint In:
ArcGIS Online Map Viewer
Service Description: DEM_with_functions
Name: DEM_with_functions
Description:
Single Fused Map Cache: false
Extent:
XMin: 626019.95515
YMin: 6110367.976830001
XMax: 626530.7402294121
YMax: 6110781.673497314
Spatial Reference: 2600
(3346)
LatestVCSWkid(0)
Initial Extent:
XMin: 626019.95515
YMin: 6110367.976830001
XMax: 626530.7402294121
YMax: 6110781.673497314
Spatial Reference: 2600
(3346)
LatestVCSWkid(0)
Full Extent:
XMin: 626019.95515
YMin: 6110367.976830001
XMax: 626530.7402294121
YMax: 6110781.673497314
Spatial Reference: 2600
(3346)
LatestVCSWkid(0)
Pixel Size X: 0.9995794117652561
Pixel Size Y: 0.9992673123493827
Band Count: 1
Pixel Type: F32
RasterFunction Infos: {"rasterFunctionInfos": [
{
"name": "Aspect",
"description": "A raster function template.",
"help": ""
},
{
"name": "Hillshade_Multi",
"description": "A raster function template.",
"help": ""
},
{
"name": "Hillshade_Tradi",
"description": "A raster function template.",
"help": ""
},
{
"name": "Shaded Relief",
"description": "Creates a multiband, color coded, 3D representation of the surface, with the sun's relative position taken into account for shading the image.",
"help": ""
},
{
"name": "ShadedRelief",
"description": "A raster function template.",
"help": ""
},
{
"name": "Slope",
"description": "A raster function template.",
"help": ""
},
{
"name": "StretchDRA",
"description": "A raster function template.",
"help": ""
},
{
"name": "None",
"description": "",
"help": ""
}
]}
Mensuration Capabilities: Basic
Has Histograms: true
Has Colormap: false
Has Multi Dimensions : false
Rendering Rule:
Min Scale: 0
Max Scale: 0
Copyright Text:
Service Data Type: esriImageServiceDataTypeGeneric
Min Values: 131
Max Values: 142.10000610352
Mean Values: 137.18700682604
Standard Deviation Values: 4.0112696818247
Object ID Field:
Fields:
None
Default Mosaic Method: Center
Allowed Mosaic Methods:
SortField:
SortValue: null
Mosaic Operator: First
Default Compression Quality: 75
Default Resampling Method: Bilinear
Max Record Count: null
Max Image Height: 4100
Max Image Width: 15000
Max Download Image Count: null
Max Mosaic Image Count: null
Allow Raster Function: true
Allow Copy: true
Allow Analysis: true
Allow Compute TiePoints: false
Supports Statistics: false
Supports Advanced Queries: false
Use StandardizedQueries: false
Raster Type Infos:
Name: Raster Dataset
Description: Supports all ArcGIS Raster Datasets
Help:
Has Raster Attribute Table: false
Edit Fields Info: null
Ownership Based AccessControl For Rasters: null
Child Resources:
Info
Histograms
Statistics
Key Properties
Legend
Raster Function Infos
Supported Operations:
Export Image
Identify
Measure
Compute Histograms
Compute Statistics Histograms
Get Samples
Compute Class Statistics
Query Boundary
Compute Pixel Location
Compute Angles
Validate
Project