View In:
ArcGIS JavaScript
ArcGIS Online Map Viewer
ArcGIS Earth
ArcMap
View Footprint In:
ArcGIS Online Map Viewer
Service Description: Latvija_Mosaic2
Name: Latvija_Mosaic2
Description:
Single Fused Map Cache: false
Extent:
XMin: 368999.5
YMin: 307999.5
XMax: 384000.0
YMax: 323000.5
Spatial Reference: 3059
(3059)
LatestVCSWkid(0)
Initial Extent:
XMin: 368999.5
YMin: 307999.5
XMax: 384000.0
YMax: 323000.5
Spatial Reference: 3059
(3059)
LatestVCSWkid(0)
Full Extent:
XMin: 368999.5
YMin: 307999.5
XMax: 384000.0
YMax: 323000.5
Spatial Reference: 3059
(3059)
LatestVCSWkid(0)
Pixel Size X: 0.5
Pixel Size Y: 0.5
Band Count: 1
Pixel Type: F32
RasterFunction Infos: {"rasterFunctionInfos": [
{
"name": "Shaded Relief multicolor",
"description": "none",
"help": "none"
},
{
"name": "Aspect Degrees",
"description": "Aspect as 16bit unsigned as Degree between 0 and 360",
"help": ""
},
{
"name": "Aspect Map",
"description": "A raster function template that takes Aspect and colors it in 8 directional classes",
"help": ""
},
{
"name": "Contour 25",
"description": "Creates Contours - but other than the name suggests, the default is 500 for large scale areas - Attribute
can be re-set",
"help": ""
},
{
"name": "Contour Smoothed 25",
"description": "Creates 500m Contours with adaptive smoothing",
"help": ""
},
{
"name": "Height Ellipsoidal",
"description": "Add /pedata/WGS84.img as correction to Orthometric height",
"help": "none"
},
{
"name": "Height Orthometric",
"description": "This is the assumed height of the data anyway - just for completeness and to move back from ellipsoidal height",
"help": "none"
},
{
"name": "Hillshade Elevation Tinted",
"description": "Apply sharpen before shaded relief",
"help": "Try argument ColorRamp with 'Elevation #1' or 'Elevation #2'"
},
{
"name": "Hillshade Grey",
"description": "Traditional method",
"help": ""
},
{
"name": "Hillshade Multidirectional",
"description": "Nicer Hillshade",
"help": ""
},
{
"name": "Slope Degrees",
"description": "Slope in Degree",
"help": ""
},
{
"name": "Slope Map",
"description": "A raster function template that takes Slope and colors it in 4 steepness classes",
"help": ""
},
{
"name": "None",
"description": "A No-Op Function.",
"help": ""
}
]}
Mensuration Capabilities: NONE
Has Histograms: true
Has Colormap: false
Has Multi Dimensions : false
Rendering Rule:
Min Scale: 0
Max Scale: 0
Copyright Text:
Service Data Type: esriImageServiceDataTypeElevation
Min Values: 3.369288921356201
Max Values: 123.87999725341797
Mean Values: 49.976377793183204
Standard Deviation Values: 25.31476819313773
Object ID Field: OBJECTID
Fields:
-
OBJECTID
(
type: esriFieldTypeOID, alias: OBJECTID
)
-
Shape
(
type: esriFieldTypeGeometry, alias: Shape
)
-
Name
(
type: esriFieldTypeString, alias: Name, length: 200
)
-
MinPS
(
type: esriFieldTypeDouble, alias: MinPS
)
-
MaxPS
(
type: esriFieldTypeDouble, alias: MaxPS
)
-
LowPS
(
type: esriFieldTypeDouble, alias: LowPS
)
-
HighPS
(
type: esriFieldTypeDouble, alias: HighPS
)
-
Category
(
type: esriFieldTypeInteger, alias: Category
,
Coded Values:
[0: Unknown]
,
[1: Primary]
,
[2: Overview]
, ...6 more...
)
-
Tag
(
type: esriFieldTypeString, alias: Tag, length: 100
)
-
GroupName
(
type: esriFieldTypeString, alias: GroupName, length: 100
)
-
ProductName
(
type: esriFieldTypeString, alias: ProductName, length: 100
)
-
CenterX
(
type: esriFieldTypeDouble, alias: CenterX
)
-
CenterY
(
type: esriFieldTypeDouble, alias: CenterY
)
-
ZOrder
(
type: esriFieldTypeInteger, alias: ZOrder
)
-
Shape_Length
(
type: esriFieldTypeDouble, alias: Shape_Length
)
-
Shape_Area
(
type: esriFieldTypeDouble, alias: Shape_Area
)
Default Mosaic Method: Northwest
Allowed Mosaic Methods: NorthWest,Center,LockRaster,ByAttribute,Nadir,Viewpoint,Seamline,None
SortField:
SortValue: null
Mosaic Operator: First
Default Compression Quality: 75
Default Resampling Method: Bilinear
Max Record Count: 1000
Max Image Height: 4100
Max Image Width: 15000
Max Download Image Count: 20
Max Mosaic Image Count: 45
Allow Raster Function: true
Allow Copy: true
Allow Analysis: true
Allow Compute TiePoints: false
Supports Statistics: true
Supports Advanced Queries: true
Use StandardizedQueries: false
Raster Type Infos:
Name: Raster Dataset
Description: Supports all ArcGIS Raster Datasets
Help:
Has Raster Attribute Table: false
Edit Fields Info: null
Ownership Based AccessControl For Rasters: null
Child Resources:
Info
Histograms
Statistics
Key Properties
Legend
Raster Function Infos
Supported Operations:
Export Image
Query
Identify
Download Rasters
Measure
Compute Histograms
Compute Statistics Histograms
Get Samples
Compute Class Statistics
Query Boundary
Compute Pixel Location
Compute Angles
Validate
Project
Calculate Volume